BEGIN:VCALENDAR
VERSION:2.0
PRODID:-//Adem en Bewustzijn Academie - ECPv6.15.19//NONSGML v1.0//EN
CALSCALE:GREGORIAN
METHOD:PUBLISH
X-WR-CALNAME:Adem en Bewustzijn Academie
X-ORIGINAL-URL:https://www.ademenbewustzijnacademie.nl
X-WR-CALDESC:Evenementen voor Adem en Bewustzijn Academie
REFRESH-INTERVAL;VALUE=DURATION:PT1H
X-Robots-Tag:noindex
X-PUBLISHED-TTL:PT1H
BEGIN:VTIMEZONE
TZID:UTC
BEGIN:STANDARD
TZOFFSETFROM:+0000
TZOFFSETTO:+0000
TZNAME:UTC
DTSTART:20250101T000000
END:STANDARD
END:VTIMEZONE
BEGIN:VEVENT
DTSTART;TZID=UTC:20260205T093000
DTEND;TZID=UTC:20260207T173000
DTSTAMP:20260421T224813
CREATED:20251118T112127Z
LAST-MODIFIED:20260210T063920Z
UID:10000356-1770283800-1770485400@www.ademenbewustzijnacademie.nl
SUMMARY:Basis Ademwerk | Module 1 | Werkhoven
DESCRIPTION:[vc_row][vc_column][vc_column_text margin_bottom=”0″ css=”.vc_custom_1769420361118{margin-bottom: 0px !important;}”]\nAdemwerk voor jezelf.\n– Trainers: Ragen Wesselius en Amber Lot\, Co-trainer Yara Bassa\n– Datum: 5 t/m 7 februari 2026 \nTijd:\nDonderdag 22 februari 9.30 -18.00\nVrijdag 23 februari 9.30- 18.00\nZaterdag 24 februari 9.30 -17.30 \n– Titel: Basis Ademwerk Retraite\, Module 1\n– Inschrijven: tot 21 januari 2026\n– Prijs: 825 euro\n– Adres: Achterdijk 78 Werkhoven\, Utrecht\n– Aanmelden: www.diviamragen.nl of www.amberlot.nl\n– Niet Residentieel\n– Beschrijving: Basis Ademwerk Module 1 \n3 daagse\, in Utrecht prijs is inclusief: vegetarische lunch\, koffie\, thee en versnaperingen. \n*Full Board maaltijden\nHeb je een allergie? Laat het op tijd weten![/vc_column_text][mk_button dimension=”outline” size=”medium” url=”https://www.paradijsopaarde.nu/opleidingen/#Basis” target=”_blank” margin_top=”30″ outline_skin=”custom” outline_active_color=”#a70100″ outline_active_text_color=”#a70100″ outline_hover_bg_color=”#a70100″ outline_hover_color=”#ffffff”]MEER INFORMATIE OVER DEZE MODULE[/mk_button][/vc_column][/vc_row]
URL:https://www.ademenbewustzijnacademie.nl/agenda/basis-ademwerk-module-1-3-daagse-werkhoven/
CATEGORIES:1. Opleiding – Basis Ademwerk (module 1 + 2),Opleiding
ATTACH;FMTTYPE=image/jpeg:https://www.ademenbewustzijnacademie.nl/wp-content/uploads/2026/01/aba-platform-31.jpg
ORGANIZER;CN="Amber Lot":MAILTO:info@ademenbewustzijnacademie.nl
END:VEVENT
END:VCALENDAR