BEGIN:VCALENDAR
VERSION:2.0
PRODID:-//Adem en Bewustzijn Academie - ECPv6.15.19//NONSGML v1.0//EN
CALSCALE:GREGORIAN
METHOD:PUBLISH
X-WR-CALNAME:Adem en Bewustzijn Academie
X-ORIGINAL-URL:https://www.ademenbewustzijnacademie.nl
X-WR-CALDESC:Evenementen voor Adem en Bewustzijn Academie
REFRESH-INTERVAL;VALUE=DURATION:PT1H
X-Robots-Tag:noindex
X-PUBLISHED-TTL:PT1H
BEGIN:VTIMEZONE
TZID:UTC
BEGIN:STANDARD
TZOFFSETFROM:+0000
TZOFFSETTO:+0000
TZNAME:UTC
DTSTART:20250101T000000
END:STANDARD
END:VTIMEZONE
BEGIN:VEVENT
DTSTART;TZID=UTC:20260319T090000
DTEND;TZID=UTC:20261209T180000
DTSTAMP:20260421T222139
CREATED:20251208T164738Z
LAST-MODIFIED:20260312T103719Z
UID:10000358-1773910800-1796839200@www.ademenbewustzijnacademie.nl
SUMMARY:Dagopleiding Ademcoach | Module 3\, 4 & 5 |  Werkhoven
DESCRIPTION:[vc_row][vc_column][vc_column_text css=”.vc_custom_1772455991849{margin-bottom: 0px !important;}”]ABA Dagopleiding tot Ademcoach\, Module 3 t/m 5\nTrainers: Ragen Wesselius\, Amber Lot en Wilna Eenkhoorn.\nDagen en tijden: donderdag\, vrijdag en soms ook zaterdag van 9 tot 18 uur. \nData van de Modules\nModule 3A 19\, 20 & 21 maart 2026\nModule 3B 9\, 10 & 11 april 2026\nModule 4A 21 & 22 mei 2026\nModule 4B 11 & 12 juni 2026\nModule 4C 2 & 3 juli 2026\nModule 5A 10\, 11 & 12 september 2026\nModule 5B Terugkomdag 26 november 2026 \n3 x zoom sessie en individueel persoonlijk ontwikkelingsgesprek\, data nog te bepalen in overleg. \nDagopleiding te Utrecht\, Werkhoven\nTijd: 9 tot 18 uur\nAdres: Achterdijk 78 Werkhoven\, Utrecht\nAantal plaatsen: 10 deelnemers\nInschrijven tot: ±4 maart 2026 \nDe prijs van de dagopleiding totaal 16 dagen: €4400\,-.\nModule 3. €1650\,-\nModule 4. en 5. samen €2750\,-. \nBetaling in termijnen is mogelijk na overleg. \nInclusief: vegetarische lunch\, koffie\, thee en versnaperingen. \nWebsite: www.diviamragen.nl\, www.amberlot.nl\nNiet Residentieel[/vc_column_text][mk_button dimension=”outline” size=”medium” url=”https://www.ademenbewustzijnacademie.nl/product/module-3-werkhoven/” target=”_blank” margin_top=”30″ outline_skin=”custom” outline_active_color=”#a70100″ outline_active_text_color=”#a70100″ outline_hover_bg_color=”#a70100″ outline_hover_color=”#ffffff”]BOEK MODULE 3[/mk_button][mk_button dimension=”outline” size=”medium” letter_spacing=”0″ url=”https://www.ademenbewustzijnacademie.nl/product/module-3-4-5-werkhoven/” target=”_blank” button_custom_width=”0″ margin_top=”30″ margin_bottom=”15″ margin_right=”15″ outline_skin=”custom” outline_active_color=”#a70100″ outline_active_text_color=”#a70100″ outline_hover_bg_color=”#a70100″ outline_hover_color=”#ffffff”]BOEK MODULE 3-4-5[/mk_button][mk_button dimension=”outline” size=”medium” url=”https://www.ademenbewustzijnacademie.nl/product/module-4-en-5-werkhoven/” target=”_blank” margin_top=”30″ outline_skin=”custom” outline_active_color=”#a70100″ outline_active_text_color=”#a70100″ outline_hover_bg_color=”#a70100″ outline_hover_color=”#ffffff”]BOEK MODULE 4 EN 5 SAMEN[/mk_button][mk_button dimension=”outline” size=”medium” url=”https://www.ademenbewustzijnacademie.nl/opleidingen/ademcoach-worden-module-3-4-5/” target=”_blank” margin_top=”30″ outline_skin=”custom” outline_active_color=”#a70100″ outline_active_text_color=”#a70100″ outline_hover_bg_color=”#a70100″ outline_hover_color=”#ffffff”]MEER INFORMATIE OVER DEZE MODULE[/mk_button][/vc_column][/vc_row]
URL:https://www.ademenbewustzijnacademie.nl/agenda/dagopleiding-tot-ademcoach-module-3-t-m-5-werkhoven/
CATEGORIES:1. Opleiding – Ademcoach (Module 3, 4 en 5),Opleiding
ATTACH;FMTTYPE=image/jpeg:https://www.ademenbewustzijnacademie.nl/wp-content/uploads/2026/01/aba-platform-11.jpg
ORGANIZER;CN="Amber Lot":MAILTO:info@ademenbewustzijnacademie.nl
END:VEVENT
BEGIN:VEVENT
DTSTART;VALUE=DATE:20260325
DTEND;VALUE=DATE:20260330
DTSTAMP:20260421T222140
CREATED:20250724T140931Z
LAST-MODIFIED:20260227T155848Z
UID:10000346-1774396800-1774828799@www.ademenbewustzijnacademie.nl
SUMMARY:Ademtrainer | Module 8 | Creil
DESCRIPTION:[vc_row][vc_column][vc_column_text margin_bottom=”0″ css=”.vc_custom_1772207894467{margin-bottom: 0px !important;}”]\nABA – Trainer opleiding.\nModule 8\nTrainers: Wilna Eenkhoorn\nWanneer: 25 – 29 maart  Start programma: 20.00\nPrijs: €1.625\,-\nAdres: Paradijs op Aarde\, Noordermeerweg 13\, 8312 RA Creil \nResidentieel: Ja\, Full Board maaltijden en verblijf; inclusief een meerpersoonskamer. \nHeb je een allergie? Laat het op tijd weten\, email naar info@ademenbewustzijnacademie.nl \nAnnuleringsvoorwaarden: lees het onderaan de pagina bij Algemene Voorwaarden[/vc_column_text][mk_button dimension=”outline” size=”medium” url=”https://www.ademenbewustzijnacademie.nl/opleidingen/3-ademtrainer-worden/” target=”_blank” margin_top=”30″ outline_skin=”custom” outline_active_color=”#a70100″ outline_active_text_color=”#a70100″ outline_hover_bg_color=”#a70100″ outline_hover_color=”#ffffff”]MEER INFORMATIE OVER DEZE MODULE[/mk_button][mk_button dimension=”outline” size=”medium” url=”https://www.ademenbewustzijnacademie.nl/product/module-8-creil-solo/” target=”_blank” margin_top=”30″ outline_skin=”custom” outline_active_color=”#a70100″ outline_active_text_color=”#a70100″ outline_hover_bg_color=”#a70100″ outline_hover_color=”#ffffff”]BOEK MODULE 8[/mk_button][/vc_column][/vc_row]
URL:https://www.ademenbewustzijnacademie.nl/agenda/ademtrainer-module-8-5-dagen-creil/
CATEGORIES:1. Opleiding – Ademtrainer (module 6 t/m 8),Opleiding
ATTACH;FMTTYPE=image/jpeg:https://www.ademenbewustzijnacademie.nl/wp-content/uploads/2026/01/aba-platform-6.jpg
ORGANIZER;CN="Wilna Eenkhoorn":MAILTO:info@ademenbewustzijnacademie.nl
END:VEVENT
BEGIN:VEVENT
DTSTART;TZID=UTC:20260326T183000
DTEND;TZID=UTC:20260326T210000
DTSTAMP:20260421T222140
CREATED:20260303T141137Z
LAST-MODIFIED:20260303T141138Z
UID:10000364-1774549800-1774558800@www.ademenbewustzijnacademie.nl
SUMMARY:Ademcirkel Urban Retreat Amsterdam
DESCRIPTION:[vc_row][vc_column][vc_column_text margin_bottom=”0″ css=”.vc_custom_1772115863788{margin-bottom: 0px !important;}”]Ready to retreat?\nReady to relax?\nReady to breathe? \nStap aan het einde van de maand uit je vaste patronen\, schud de stress van je af en kom thuis bij je zelf! \nGeef jezelf ademruimte en ontspan in het diepste niveau van je zijn. \nGa naar de stilte in jezelf en ontdek je oneindige potentieel. \nHet maakt niet uit wie je bent of wat je doet. \nCreëer de mogelijkheid om een nieuwe bron van creativiteit en inzichten aan te raken. \nVerander je patroon\, ga van je geijkte pad\, durf\, doe en ga! \nAuthentiek zijn\, waarachtig in het meesteren van je eigen leven \n  \nIedere maand organiseren Wouter de Graaf en Lilian Korzilius een Urban Retreat Adem Event in Studio Lumen in Amsterdam-Centrum \n€ 60\,00 euro incl.BTW \n€ 75\,00 euro incl.BTW en lichte maaltijf \nCheck voor meer informatie en boeken van dit event op: Maandelijkse Urban Retreat Amsterdam[/vc_column_text][/vc_column][/vc_row]
URL:https://www.ademenbewustzijnacademie.nl/agenda/ademcirkel-urban-retreat-amsterdam-2/
LOCATION:Amsterdam\, Nieuwe Keizersgracht 58\, Amsterdam\, Noord-Holland\, 1018 DT\, Netherlands
CATEGORIES:Adem Events
ATTACH;FMTTYPE=image/jpeg:https://www.ademenbewustzijnacademie.nl/wp-content/uploads/2026/01/aba-platform-35.jpeg
END:VEVENT
END:VCALENDAR