BEGIN:VCALENDAR
VERSION:2.0
PRODID:-//Adem en Bewustzijn Academie - ECPv6.15.19//NONSGML v1.0//EN
CALSCALE:GREGORIAN
METHOD:PUBLISH
X-ORIGINAL-URL:https://www.ademenbewustzijnacademie.nl
X-WR-CALDESC:Evenementen voor Adem en Bewustzijn Academie
REFRESH-INTERVAL;VALUE=DURATION:PT1H
X-Robots-Tag:noindex
X-PUBLISHED-TTL:PT1H
BEGIN:VTIMEZONE
TZID:UTC
BEGIN:STANDARD
TZOFFSETFROM:+0000
TZOFFSETTO:+0000
TZNAME:UTC
DTSTART:20250101T000000
END:STANDARD
END:VTIMEZONE
BEGIN:VEVENT
DTSTART;TZID=UTC:20260319T090000
DTEND;TZID=UTC:20261209T180000
DTSTAMP:20260422T022525
CREATED:20251208T164738Z
LAST-MODIFIED:20260312T103719Z
UID:10000358-1773910800-1796839200@www.ademenbewustzijnacademie.nl
SUMMARY:Dagopleiding Ademcoach | Module 3\, 4 & 5 |  Werkhoven
DESCRIPTION:[vc_row][vc_column][vc_column_text css=”.vc_custom_1772455991849{margin-bottom: 0px !important;}”]ABA Dagopleiding tot Ademcoach\, Module 3 t/m 5\nTrainers: Ragen Wesselius\, Amber Lot en Wilna Eenkhoorn.\nDagen en tijden: donderdag\, vrijdag en soms ook zaterdag van 9 tot 18 uur. \nData van de Modules\nModule 3A 19\, 20 & 21 maart 2026\nModule 3B 9\, 10 & 11 april 2026\nModule 4A 21 & 22 mei 2026\nModule 4B 11 & 12 juni 2026\nModule 4C 2 & 3 juli 2026\nModule 5A 10\, 11 & 12 september 2026\nModule 5B Terugkomdag 26 november 2026 \n3 x zoom sessie en individueel persoonlijk ontwikkelingsgesprek\, data nog te bepalen in overleg. \nDagopleiding te Utrecht\, Werkhoven\nTijd: 9 tot 18 uur\nAdres: Achterdijk 78 Werkhoven\, Utrecht\nAantal plaatsen: 10 deelnemers\nInschrijven tot: ±4 maart 2026 \nDe prijs van de dagopleiding totaal 16 dagen: €4400\,-.\nModule 3. €1650\,-\nModule 4. en 5. samen €2750\,-. \nBetaling in termijnen is mogelijk na overleg. \nInclusief: vegetarische lunch\, koffie\, thee en versnaperingen. \nWebsite: www.diviamragen.nl\, www.amberlot.nl\nNiet Residentieel[/vc_column_text][mk_button dimension=”outline” size=”medium” url=”https://www.ademenbewustzijnacademie.nl/product/module-3-werkhoven/” target=”_blank” margin_top=”30″ outline_skin=”custom” outline_active_color=”#a70100″ outline_active_text_color=”#a70100″ outline_hover_bg_color=”#a70100″ outline_hover_color=”#ffffff”]BOEK MODULE 3[/mk_button][mk_button dimension=”outline” size=”medium” letter_spacing=”0″ url=”https://www.ademenbewustzijnacademie.nl/product/module-3-4-5-werkhoven/” target=”_blank” button_custom_width=”0″ margin_top=”30″ margin_bottom=”15″ margin_right=”15″ outline_skin=”custom” outline_active_color=”#a70100″ outline_active_text_color=”#a70100″ outline_hover_bg_color=”#a70100″ outline_hover_color=”#ffffff”]BOEK MODULE 3-4-5[/mk_button][mk_button dimension=”outline” size=”medium” url=”https://www.ademenbewustzijnacademie.nl/product/module-4-en-5-werkhoven/” target=”_blank” margin_top=”30″ outline_skin=”custom” outline_active_color=”#a70100″ outline_active_text_color=”#a70100″ outline_hover_bg_color=”#a70100″ outline_hover_color=”#ffffff”]BOEK MODULE 4 EN 5 SAMEN[/mk_button][mk_button dimension=”outline” size=”medium” url=”https://www.ademenbewustzijnacademie.nl/opleidingen/ademcoach-worden-module-3-4-5/” target=”_blank” margin_top=”30″ outline_skin=”custom” outline_active_color=”#a70100″ outline_active_text_color=”#a70100″ outline_hover_bg_color=”#a70100″ outline_hover_color=”#ffffff”]MEER INFORMATIE OVER DEZE MODULE[/mk_button][/vc_column][/vc_row]
URL:https://www.ademenbewustzijnacademie.nl/agenda/dagopleiding-tot-ademcoach-module-3-t-m-5-werkhoven/
CATEGORIES:1. Opleiding – Ademcoach (Module 3, 4 en 5),Opleiding
ATTACH;FMTTYPE=image/jpeg:https://www.ademenbewustzijnacademie.nl/wp-content/uploads/2026/01/aba-platform-11.jpg
ORGANIZER;CN="Amber Lot":MAILTO:info@ademenbewustzijnacademie.nl
END:VEVENT
BEGIN:VEVENT
DTSTART;VALUE=DATE:20260602
DTEND;VALUE=DATE:20260608
DTSTAMP:20260422T022525
CREATED:20240903T125603Z
LAST-MODIFIED:20260217T163423Z
UID:10000237-1780358400-1780876799@www.ademenbewustzijnacademie.nl
SUMMARY:Ademcoach | Module 4 | Creil
DESCRIPTION:[vc_row][vc_column][vc_column_text margin_bottom=”0″ css=”.vc_custom_1771346038580{margin-bottom: 0px !important;}”]\nABA-Opleiding\nModule 4\nTrainers: Wilna Eenkhoorn\nWanneer: dinsdag 2  juni 16.00-16.30 Start programma: 17.00 tot zondag ±17.00\nPrijs: 1950\,- \nAdres: Paradijs op Aarde\, Noordermeerweg 13\, 8312 RA Creil \nResidentieel: Ja\, Full Board maaltijden en verblijf; inclusief een meerpersoonskamer. \nHeb je een allergie? Laat het op tijd weten\, email naar info@ademenbewustzijnacademie.nl \nAnnuleringsvoorwaarden: lees het onderaan de pagina bij Algemene Voorwaarden.[/vc_column_text][mk_button dimension=”outline” size=”medium” url=”https://www.ademenbewustzijnacademie.nl/opleidingen/ademcoach-worden-module-3-4-5/” target=”_blank” margin_top=”30″ outline_skin=”custom” outline_active_color=”#a70100″ outline_active_text_color=”#a70100″ outline_hover_bg_color=”#a70100″ outline_hover_color=”#ffffff”]MEER INFORMATIE OVER DEZE MODULE[/mk_button][mk_button dimension=”outline” size=”medium” url=”https://www.ademenbewustzijnacademie.nl/product/module-4-creil-solo/” target=”_blank” margin_top=”30″ outline_skin=”custom” outline_active_color=”#a70100″ outline_active_text_color=”#a70100″ outline_hover_bg_color=”#a70100″ outline_hover_color=”#ffffff”]BOEK MODULE 4[/mk_button][/vc_column][/vc_row]
URL:https://www.ademenbewustzijnacademie.nl/agenda/ademcoach-module-4-6-daagse-creil/
CATEGORIES:1. Opleiding – Ademcoach (Module 3, 4 en 5),Opleiding
ATTACH;FMTTYPE=image/jpeg:https://www.ademenbewustzijnacademie.nl/wp-content/uploads/2026/01/aba-platform-7-e1773843656685.jpg
ORGANIZER;CN="Wilna Eenkhoorn":MAILTO:info@ademenbewustzijnacademie.nl
END:VEVENT
BEGIN:VEVENT
DTSTART;TZID=UTC:20260603T193000
DTEND;TZID=UTC:20260603T220000
DTSTAMP:20260422T022525
CREATED:20260311T201128Z
LAST-MODIFIED:20260311T201506Z
UID:10000444-1780515000-1780524000@www.ademenbewustzijnacademie.nl
SUMMARY:Ademcirkel
DESCRIPTION:[vc_row][vc_column][vc_column_text margin_bottom=”0″ css=”.vc_custom_1773259674181{margin-bottom: 0px !important;}”]Een ademcirkel is een avond waarop we samen gaan ademen\, samen en tegelijkertijd ieder voor zich. Een avond vol zachtheid en zijn\, voelen en ontvangen\, naar binnen keren\, weten en verbinden. \nMisschien heb je al vaker geademd\, misschien is het de eerste keer… \nMisschien denk je; Wat is dat nou precies\, dat ademen? \nIn een bewust verbonden ademsessie krijg je toegang tot je onderbewuste\, je lijf weet het vaak al eerder dan je hoofd. Tijdens een bewust verbonden ademsessie maak je de connectie tussen hoofd en lijf. We ademen met een intentie\, deze gaan we samen ontdekken tijdens een korte meditatie voorafgaand aan de sessie. \nAdemsessie in een groep van max 10 deelnemers met intensieve begeleiding van 1 ademcoach op 3 deelnemers \nBijdrage € 60\,00 incl BTW \nBoeken via : www.ademhuislelystad.nl \n[/vc_column_text][/vc_column][/vc_row]
URL:https://www.ademenbewustzijnacademie.nl/agenda/ademcirkel/2026-06-03/
LOCATION:Ademhuis Lelystad\, Schans 18-02\, Lelystad\, Netherlands
CATEGORIES:Adem Events
ATTACH;FMTTYPE=image/jpeg:https://www.ademenbewustzijnacademie.nl/wp-content/uploads/2025/10/aba-agenda-3.jpg
ORGANIZER;CN="Floor Gilbert":MAILTO:floor_gilbert@hotmail.com
END:VEVENT
END:VCALENDAR