BEGIN:VCALENDAR
VERSION:2.0
PRODID:-//Adem en Bewustzijn Academie - ECPv6.15.19//NONSGML v1.0//EN
CALSCALE:GREGORIAN
METHOD:PUBLISH
X-ORIGINAL-URL:https://www.ademenbewustzijnacademie.nl
X-WR-CALDESC:Evenementen voor Adem en Bewustzijn Academie
REFRESH-INTERVAL;VALUE=DURATION:PT1H
X-Robots-Tag:noindex
X-PUBLISHED-TTL:PT1H
BEGIN:VTIMEZONE
TZID:UTC
BEGIN:STANDARD
TZOFFSETFROM:+0000
TZOFFSETTO:+0000
TZNAME:UTC
DTSTART:20250101T000000
END:STANDARD
END:VTIMEZONE
BEGIN:VEVENT
DTSTART;TZID=UTC:20260319T090000
DTEND;TZID=UTC:20261209T180000
DTSTAMP:20260422T021534
CREATED:20251208T164738Z
LAST-MODIFIED:20260312T103719Z
UID:10000358-1773910800-1796839200@www.ademenbewustzijnacademie.nl
SUMMARY:Dagopleiding Ademcoach | Module 3\, 4 & 5 |  Werkhoven
DESCRIPTION:[vc_row][vc_column][vc_column_text css=”.vc_custom_1772455991849{margin-bottom: 0px !important;}”]ABA Dagopleiding tot Ademcoach\, Module 3 t/m 5\nTrainers: Ragen Wesselius\, Amber Lot en Wilna Eenkhoorn.\nDagen en tijden: donderdag\, vrijdag en soms ook zaterdag van 9 tot 18 uur. \nData van de Modules\nModule 3A 19\, 20 & 21 maart 2026\nModule 3B 9\, 10 & 11 april 2026\nModule 4A 21 & 22 mei 2026\nModule 4B 11 & 12 juni 2026\nModule 4C 2 & 3 juli 2026\nModule 5A 10\, 11 & 12 september 2026\nModule 5B Terugkomdag 26 november 2026 \n3 x zoom sessie en individueel persoonlijk ontwikkelingsgesprek\, data nog te bepalen in overleg. \nDagopleiding te Utrecht\, Werkhoven\nTijd: 9 tot 18 uur\nAdres: Achterdijk 78 Werkhoven\, Utrecht\nAantal plaatsen: 10 deelnemers\nInschrijven tot: ±4 maart 2026 \nDe prijs van de dagopleiding totaal 16 dagen: €4400\,-.\nModule 3. €1650\,-\nModule 4. en 5. samen €2750\,-. \nBetaling in termijnen is mogelijk na overleg. \nInclusief: vegetarische lunch\, koffie\, thee en versnaperingen. \nWebsite: www.diviamragen.nl\, www.amberlot.nl\nNiet Residentieel[/vc_column_text][mk_button dimension=”outline” size=”medium” url=”https://www.ademenbewustzijnacademie.nl/product/module-3-werkhoven/” target=”_blank” margin_top=”30″ outline_skin=”custom” outline_active_color=”#a70100″ outline_active_text_color=”#a70100″ outline_hover_bg_color=”#a70100″ outline_hover_color=”#ffffff”]BOEK MODULE 3[/mk_button][mk_button dimension=”outline” size=”medium” letter_spacing=”0″ url=”https://www.ademenbewustzijnacademie.nl/product/module-3-4-5-werkhoven/” target=”_blank” button_custom_width=”0″ margin_top=”30″ margin_bottom=”15″ margin_right=”15″ outline_skin=”custom” outline_active_color=”#a70100″ outline_active_text_color=”#a70100″ outline_hover_bg_color=”#a70100″ outline_hover_color=”#ffffff”]BOEK MODULE 3-4-5[/mk_button][mk_button dimension=”outline” size=”medium” url=”https://www.ademenbewustzijnacademie.nl/product/module-4-en-5-werkhoven/” target=”_blank” margin_top=”30″ outline_skin=”custom” outline_active_color=”#a70100″ outline_active_text_color=”#a70100″ outline_hover_bg_color=”#a70100″ outline_hover_color=”#ffffff”]BOEK MODULE 4 EN 5 SAMEN[/mk_button][mk_button dimension=”outline” size=”medium” url=”https://www.ademenbewustzijnacademie.nl/opleidingen/ademcoach-worden-module-3-4-5/” target=”_blank” margin_top=”30″ outline_skin=”custom” outline_active_color=”#a70100″ outline_active_text_color=”#a70100″ outline_hover_bg_color=”#a70100″ outline_hover_color=”#ffffff”]MEER INFORMATIE OVER DEZE MODULE[/mk_button][/vc_column][/vc_row]
URL:https://www.ademenbewustzijnacademie.nl/agenda/dagopleiding-tot-ademcoach-module-3-t-m-5-werkhoven/
CATEGORIES:1. Opleiding – Ademcoach (Module 3, 4 en 5),Opleiding
ATTACH;FMTTYPE=image/jpeg:https://www.ademenbewustzijnacademie.nl/wp-content/uploads/2026/01/aba-platform-11.jpg
ORGANIZER;CN="Amber Lot":MAILTO:info@ademenbewustzijnacademie.nl
END:VEVENT
BEGIN:VEVENT
DTSTART;TZID=UTC:20260803T180000
DTEND;TZID=UTC:20260808T140000
DTSTAMP:20260422T021534
CREATED:20260310T100044Z
LAST-MODIFIED:20260310T101416Z
UID:10000437-1785780000-1786197600@www.ademenbewustzijnacademie.nl
SUMMARY:Retreat Embrace your Breath - Portugal
DESCRIPTION:[vc_row][vc_column][vc_column_text margin_bottom=”0″ css=”.vc_custom_1773136779994{margin-bottom: 0px !important;}”]Dit jaar gaat het Embrace Your Breath Retreat voor het eerst plaatsvinden in Portugal! Na 10 edities in Zuid-Spanje worden jullie nu warm ontvangen in Casa Conmigo in Portimão. Wouter\, Amber en Lilian zijn het perfecte trio als je je volledig wil kunnen overgeven aan ontspanning\, plezier en liefde! \nOnze gezamenlijke missie is om jou van “verwarring naar verwondering” en van “verlangen naar verbinden”te brengen. \nDit doen we door: \n\nBewust verbonden ademsessies (BVA)\nDiepgaande gesprekken\nPraktische mind-oefeningen\nMeditaties\nMassage & lichaamswerk\nOnze hartverwarmende gastvrijheid\n\n\n\n\nOp een prachtige\, overdadige locatie in Zuid-Portugal krijg jij in Villa Conmigo de ruimte om bij jezelf aan te komen. In de stilte leer je luisteren naar je eigen wijsheid en waarheid en onderzoek je de vaak onbewuste patronen die je in de weg zitten\, die je tegenhouden om werkelijk ruimte in te nemen voor jezelf. \nGa je mee? Klik hier voor meer informatie en boeken retreat: \nEmbrace Your Breath Retreat Portugal \n  \n\n\n\n[/vc_column_text][/vc_column][/vc_row]
URL:https://www.ademenbewustzijnacademie.nl/agenda/retreat-embrace-your-breath-portugal/
LOCATION:Portimão\, R. Sara Afonso\, Portimão\, 8500-307\, Portugal
CATEGORIES:Adem Events
ATTACH;FMTTYPE=image/jpeg:https://www.ademenbewustzijnacademie.nl/wp-content/uploads/2026/02/aba-ademwerk-v2.jpg
ORGANIZER;CN="Lilian Korzilius":MAILTO:info@ademenbewustzijnacademie.nl
END:VEVENT
END:VCALENDAR