BEGIN:VCALENDAR
VERSION:2.0
PRODID:-//Adem en Bewustzijn Academie - ECPv6.15.19//NONSGML v1.0//EN
CALSCALE:GREGORIAN
METHOD:PUBLISH
X-ORIGINAL-URL:https://www.ademenbewustzijnacademie.nl
X-WR-CALDESC:Evenementen voor Adem en Bewustzijn Academie
REFRESH-INTERVAL;VALUE=DURATION:PT1H
X-Robots-Tag:noindex
X-PUBLISHED-TTL:PT1H
BEGIN:VTIMEZONE
TZID:UTC
BEGIN:STANDARD
TZOFFSETFROM:+0000
TZOFFSETTO:+0000
TZNAME:UTC
DTSTART:20260101T000000
END:STANDARD
END:VTIMEZONE
BEGIN:VEVENT
DTSTART;TZID=UTC:20270106T193000
DTEND;TZID=UTC:20270106T220000
DTSTAMP:20260422T120117
CREATED:20260311T201128Z
LAST-MODIFIED:20260311T201506Z
UID:10000451-1799263800-1799272800@www.ademenbewustzijnacademie.nl
SUMMARY:Ademcirkel
DESCRIPTION:[vc_row][vc_column][vc_column_text margin_bottom=”0″ css=”.vc_custom_1773259674181{margin-bottom: 0px !important;}”]Een ademcirkel is een avond waarop we samen gaan ademen\, samen en tegelijkertijd ieder voor zich. Een avond vol zachtheid en zijn\, voelen en ontvangen\, naar binnen keren\, weten en verbinden. \nMisschien heb je al vaker geademd\, misschien is het de eerste keer… \nMisschien denk je; Wat is dat nou precies\, dat ademen? \nIn een bewust verbonden ademsessie krijg je toegang tot je onderbewuste\, je lijf weet het vaak al eerder dan je hoofd. Tijdens een bewust verbonden ademsessie maak je de connectie tussen hoofd en lijf. We ademen met een intentie\, deze gaan we samen ontdekken tijdens een korte meditatie voorafgaand aan de sessie. \nAdemsessie in een groep van max 10 deelnemers met intensieve begeleiding van 1 ademcoach op 3 deelnemers \nBijdrage € 60\,00 incl BTW \nBoeken via : www.ademhuislelystad.nl \n[/vc_column_text][/vc_column][/vc_row]
URL:https://www.ademenbewustzijnacademie.nl/agenda/ademcirkel/2027-01-06/
LOCATION:Ademhuis Lelystad\, Schans 18-02\, Lelystad\, Netherlands
CATEGORIES:Adem Events
ATTACH;FMTTYPE=image/jpeg:https://www.ademenbewustzijnacademie.nl/wp-content/uploads/2025/10/aba-agenda-3.jpg
ORGANIZER;CN="Floor Gilbert":MAILTO:floor_gilbert@hotmail.com
END:VEVENT
END:VCALENDAR