BEGIN:VCALENDAR
VERSION:2.0
PRODID:-//Adem en Bewustzijn Academie - ECPv6.15.19//NONSGML v1.0//EN
CALSCALE:GREGORIAN
METHOD:PUBLISH
X-ORIGINAL-URL:https://www.ademenbewustzijnacademie.nl
X-WR-CALDESC:Evenementen voor Adem en Bewustzijn Academie
REFRESH-INTERVAL;VALUE=DURATION:PT1H
X-Robots-Tag:noindex
X-PUBLISHED-TTL:PT1H
BEGIN:VTIMEZONE
TZID:UTC
BEGIN:STANDARD
TZOFFSETFROM:+0000
TZOFFSETTO:+0000
TZNAME:UTC
DTSTART:20250101T000000
END:STANDARD
END:VTIMEZONE
BEGIN:VEVENT
DTSTART;TZID=UTC:20260319T090000
DTEND;TZID=UTC:20261209T180000
DTSTAMP:20260422T021009
CREATED:20251208T164738Z
LAST-MODIFIED:20260312T103719Z
UID:10000358-1773910800-1796839200@www.ademenbewustzijnacademie.nl
SUMMARY:Dagopleiding Ademcoach | Module 3\, 4 & 5 |  Werkhoven
DESCRIPTION:[vc_row][vc_column][vc_column_text css=”.vc_custom_1772455991849{margin-bottom: 0px !important;}”]ABA Dagopleiding tot Ademcoach\, Module 3 t/m 5\nTrainers: Ragen Wesselius\, Amber Lot en Wilna Eenkhoorn.\nDagen en tijden: donderdag\, vrijdag en soms ook zaterdag van 9 tot 18 uur. \nData van de Modules\nModule 3A 19\, 20 & 21 maart 2026\nModule 3B 9\, 10 & 11 april 2026\nModule 4A 21 & 22 mei 2026\nModule 4B 11 & 12 juni 2026\nModule 4C 2 & 3 juli 2026\nModule 5A 10\, 11 & 12 september 2026\nModule 5B Terugkomdag 26 november 2026 \n3 x zoom sessie en individueel persoonlijk ontwikkelingsgesprek\, data nog te bepalen in overleg. \nDagopleiding te Utrecht\, Werkhoven\nTijd: 9 tot 18 uur\nAdres: Achterdijk 78 Werkhoven\, Utrecht\nAantal plaatsen: 10 deelnemers\nInschrijven tot: ±4 maart 2026 \nDe prijs van de dagopleiding totaal 16 dagen: €4400\,-.\nModule 3. €1650\,-\nModule 4. en 5. samen €2750\,-. \nBetaling in termijnen is mogelijk na overleg. \nInclusief: vegetarische lunch\, koffie\, thee en versnaperingen. \nWebsite: www.diviamragen.nl\, www.amberlot.nl\nNiet Residentieel[/vc_column_text][mk_button dimension=”outline” size=”medium” url=”https://www.ademenbewustzijnacademie.nl/product/module-3-werkhoven/” target=”_blank” margin_top=”30″ outline_skin=”custom” outline_active_color=”#a70100″ outline_active_text_color=”#a70100″ outline_hover_bg_color=”#a70100″ outline_hover_color=”#ffffff”]BOEK MODULE 3[/mk_button][mk_button dimension=”outline” size=”medium” letter_spacing=”0″ url=”https://www.ademenbewustzijnacademie.nl/product/module-3-4-5-werkhoven/” target=”_blank” button_custom_width=”0″ margin_top=”30″ margin_bottom=”15″ margin_right=”15″ outline_skin=”custom” outline_active_color=”#a70100″ outline_active_text_color=”#a70100″ outline_hover_bg_color=”#a70100″ outline_hover_color=”#ffffff”]BOEK MODULE 3-4-5[/mk_button][mk_button dimension=”outline” size=”medium” url=”https://www.ademenbewustzijnacademie.nl/product/module-4-en-5-werkhoven/” target=”_blank” margin_top=”30″ outline_skin=”custom” outline_active_color=”#a70100″ outline_active_text_color=”#a70100″ outline_hover_bg_color=”#a70100″ outline_hover_color=”#ffffff”]BOEK MODULE 4 EN 5 SAMEN[/mk_button][mk_button dimension=”outline” size=”medium” url=”https://www.ademenbewustzijnacademie.nl/opleidingen/ademcoach-worden-module-3-4-5/” target=”_blank” margin_top=”30″ outline_skin=”custom” outline_active_color=”#a70100″ outline_active_text_color=”#a70100″ outline_hover_bg_color=”#a70100″ outline_hover_color=”#ffffff”]MEER INFORMATIE OVER DEZE MODULE[/mk_button][/vc_column][/vc_row]
URL:https://www.ademenbewustzijnacademie.nl/agenda/dagopleiding-tot-ademcoach-module-3-t-m-5-werkhoven/
CATEGORIES:1. Opleiding – Ademcoach (Module 3, 4 en 5),Opleiding
ATTACH;FMTTYPE=image/jpeg:https://www.ademenbewustzijnacademie.nl/wp-content/uploads/2026/01/aba-platform-11.jpg
ORGANIZER;CN="Amber Lot":MAILTO:info@ademenbewustzijnacademie.nl
END:VEVENT
BEGIN:VEVENT
DTSTART;TZID=UTC:20260902T193000
DTEND;TZID=UTC:20260902T220000
DTSTAMP:20260422T021009
CREATED:20260311T201128Z
LAST-MODIFIED:20260311T201506Z
UID:10000447-1788377400-1788386400@www.ademenbewustzijnacademie.nl
SUMMARY:Ademcirkel
DESCRIPTION:[vc_row][vc_column][vc_column_text margin_bottom=”0″ css=”.vc_custom_1773259674181{margin-bottom: 0px !important;}”]Een ademcirkel is een avond waarop we samen gaan ademen\, samen en tegelijkertijd ieder voor zich. Een avond vol zachtheid en zijn\, voelen en ontvangen\, naar binnen keren\, weten en verbinden. \nMisschien heb je al vaker geademd\, misschien is het de eerste keer… \nMisschien denk je; Wat is dat nou precies\, dat ademen? \nIn een bewust verbonden ademsessie krijg je toegang tot je onderbewuste\, je lijf weet het vaak al eerder dan je hoofd. Tijdens een bewust verbonden ademsessie maak je de connectie tussen hoofd en lijf. We ademen met een intentie\, deze gaan we samen ontdekken tijdens een korte meditatie voorafgaand aan de sessie. \nAdemsessie in een groep van max 10 deelnemers met intensieve begeleiding van 1 ademcoach op 3 deelnemers \nBijdrage € 60\,00 incl BTW \nBoeken via : www.ademhuislelystad.nl \n[/vc_column_text][/vc_column][/vc_row]
URL:https://www.ademenbewustzijnacademie.nl/agenda/ademcirkel/2026-09-02/
LOCATION:Ademhuis Lelystad\, Schans 18-02\, Lelystad\, Netherlands
CATEGORIES:Adem Events
ATTACH;FMTTYPE=image/jpeg:https://www.ademenbewustzijnacademie.nl/wp-content/uploads/2025/10/aba-agenda-3.jpg
ORGANIZER;CN="Floor Gilbert":MAILTO:floor_gilbert@hotmail.com
END:VEVENT
BEGIN:VEVENT
DTSTART;VALUE=DATE:20260904
DTEND;VALUE=DATE:20260907
DTSTAMP:20260422T021009
CREATED:20260201T041415Z
LAST-MODIFIED:20260414T091502Z
UID:10000362-1788480000-1788739199@www.ademenbewustzijnacademie.nl
SUMMARY:Basis Ademwerk | Module 2 |  Blisveld
DESCRIPTION:[vc_row][vc_column][vc_column_text margin_bottom=”0″ css=”.vc_custom_1776158082406{margin-bottom: 0px !important;}”]\nAdemwerk voor jezelf\nModule 2: 4\,5 en 6 september 2026\nTrainers: Marcha Merriënboer en Anne van Kessel\nWanneer: 4 t/m 6 september 2026\nBedrag  3-daagse module: €975\,- \nInclusief overnachtingen en vegetarische maaltijden.\nStart: vrijdag 09.30 uur t/m zondag ± 17.00 uur\nAdres: Biologische boerderij Blisveld – Tellingstraat 9 – Drempt\, Gelderland \nResidentieel: Ja! Full Board maaltijden en verblijf; inclusief een meerpersoonskamer. Ik heb 3 caravans!\nHeb je een allergie? Laat het op tijd weten\, email naar info@ademenbewustzijnacademie.nl \nAnnuleringsvoorwaarden: lees het onderaan de pagina bij Algemene Voorwaarden.[/vc_column_text][mk_button dimension=”outline” size=”medium” url=”https://www.ademenbewustzijnacademie.nl/opleidingen/de-basis-twee-adem-retraties-module-1-2/” target=”_blank” margin_top=”30″ outline_skin=”custom” outline_active_color=”#a70100″ outline_active_text_color=”#a70100″ outline_hover_bg_color=”#a70100″ outline_hover_color=”#ffffff”]MEER INFORMATIE OVER DEZE MODULE[/mk_button][mk_button dimension=”outline” size=”medium” url=”https://www.ademenbewustzijnacademie.nl/product/module-2-blisveld/” target=”_blank” margin_top=”30″ outline_skin=”custom” outline_active_color=”#a70100″ outline_active_text_color=”#a70100″ outline_hover_bg_color=”#a70100″ outline_hover_color=”#ffffff”]BOEK MODULE 2[/mk_button][mk_button dimension=”outline” size=”medium” url=”https://www.ademenbewustzijnacademie.nl/product/module-1-en-2-blisveld-samen/” target=”_blank” margin_top=”30″ outline_skin=”custom” outline_active_color=”#a70100″ outline_active_text_color=”#a70100″ outline_hover_bg_color=”#a70100″ outline_hover_color=”#ffffff”]BOEK MODULE 1 EN 2 SAMEN[/mk_button][/vc_column][/vc_row]
URL:https://www.ademenbewustzijnacademie.nl/agenda/basis-ademwerk-retraite-module-2-blisveld/
CATEGORIES:1. Opleiding – Basis Ademwerk (module 1 + 2),Opleiding
ATTACH;FMTTYPE=image/jpeg:https://www.ademenbewustzijnacademie.nl/wp-content/uploads/2026/01/aba-platform-38.jpeg
ORGANIZER;CN="Marcha Merienboer":MAILTO:info@yoga-amerongen.nl
END:VEVENT
BEGIN:VEVENT
DTSTART;TZID=UTC:20260904T190000
DTEND;TZID=UTC:20260904T213000
DTSTAMP:20260422T021009
CREATED:20260421T092833Z
LAST-MODIFIED:20260421T093525Z
UID:10000482-1788548400-1788557400@www.ademenbewustzijnacademie.nl
SUMMARY:Ademcirkel Nijmegen
DESCRIPTION:[vc_row][vc_column][vc_column_text margin_bottom=”0″ css=”.vc_custom_1776763223024{margin-bottom: 0px !important;}”]We heten je graag welkom om de liefdevolle kracht van de adem te ontdekken! \nInvestering € 45\,00 \nAnne: 06-81207520 \nSuze: 06-14551211[/vc_column_text][/vc_column][/vc_row]
URL:https://www.ademenbewustzijnacademie.nl/agenda/ademcirkel-nijmegen/2026-09-04/
LOCATION:Sarvata\, Nijmegen\, Schependomlaan 17E\, Nijmegen\, Netherlands
CATEGORIES:Adem Events
ATTACH;FMTTYPE=image/jpeg:https://www.ademenbewustzijnacademie.nl/wp-content/uploads/2025/10/aba-agenda-8.jpg
END:VEVENT
BEGIN:VEVENT
DTSTART;TZID=UTC:20260905T090000
DTEND;TZID=UTC:20260907T180000
DTSTAMP:20260422T021009
CREATED:20250917T114735Z
LAST-MODIFIED:20260415T110253Z
UID:10000351-1788598800-1788804000@www.ademenbewustzijnacademie.nl
SUMMARY:Bijscholing Ademcoaches |  Onderwijs | Amsterdam
DESCRIPTION:[vc_row][vc_column][vc_column_text margin_bottom=”0″ css=”.vc_custom_1776250961665{margin-bottom: 0px !important;}”]\nAdem\, Aandacht & Aanwezigheid:\nLeer docenten werken met ademtools in de klas.\n\n\nDuur:  3 dagen \nData: 5\, 6 en 7 september 2026. Aanvang vrijdag en zaterdag om 9.30 uur. Einde vrijdag en zaterdag om ±18.00 uur. \nPrijs: €825\,- \nFocus: Verdiepen\, uitbreiden en ontwikkelen van ademwijsheid om veiligheid te creëren en traumasensitief te begeleiden binnen het onderwijs. Met sensomotorische ademtools de docent/pedagogisch medewerker leren om zichzelf en de kinderen te reguleren bij emoties (angst\, boosheid\, verdriet\, etc.) \nOnderwerpen\nTijdens deze 3-daagse bijscholing verdiep je je als ademcoach/ademtherapeut op de volgende onderwerpen: \n\nJe eigen proces! Ademwerk op een veilige manier overbrengen vraagt om trauma-sensitieve coaching.\nTijdens de 3-daagse training ontvang je minimaal 3 begeleide ademsessies van de ABA-professionals\nInzicht in de psychomotorische en sensomotorische ontwikkeling van een kind\nDe polyvagaal theorie en trauma vanuit het kind-perspectief (hechting en veiligheid)\nAdeminterventies om energie en spanning te reguleren voor het kind en de klas\nAdemtoolkit voor kids! Speciaal samengesteld voor deze 3-daagse\nLesmateriaal voor Workshop ‘Ademwijs voor de docenten/pedagogisch medewerkers’\nWat te doen bij: ASS\, Astma\, Breathholding Spells en andere medische aandoeningen\n\nVoorwaarde voor deelname aan deze bijscholing is dat je een volledig afgeronde ademcoach opleiding hebt en het is een pré als je enige jaren ervaring als ademcoach hebt. \n\n\nAnnuleringsvoorwaarden: lees het onderaan de pagina bij Algemene Voorwaarden.[/vc_column_text][mk_button dimension=”outline” size=”medium” url=”https://www.ademenbewustzijnacademie.nl/product/bijscholing-onderwijs/” target=”_blank” margin_top=”30″ outline_skin=”custom” outline_active_color=”#a70100″ outline_active_text_color=”#a70100″ outline_hover_bg_color=”#a70100″ outline_hover_color=”#ffffff”]BOEK DE BIJSCHOLING[/mk_button][/vc_column][/vc_row]
URL:https://www.ademenbewustzijnacademie.nl/agenda/ademwerk-in-de-klas/
LOCATION:Amsterdam\, Nieuwe Keizersgracht 58\, Amsterdam\, Noord-Holland\, 1018 DT\, Netherlands
CATEGORIES:3. Bijscholing – Ademcoach in onderwijs,Opleiding
ATTACH;FMTTYPE=image/jpeg:https://www.ademenbewustzijnacademie.nl/wp-content/uploads/2025/05/aba-ademwerk-zorg-in-de-klas.jpg
ORGANIZER;CN="Lilian Korzilius":MAILTO:info@ademenbewustzijnacademie.nl
END:VEVENT
BEGIN:VEVENT
DTSTART;VALUE=DATE:20260908
DTEND;VALUE=DATE:20260914
DTSTAMP:20260422T021009
CREATED:20251024T120020Z
LAST-MODIFIED:20260408T151738Z
UID:10000354-1788825600-1789343999@www.ademenbewustzijnacademie.nl
SUMMARY:Ademcoach | Module 4 | Creil
DESCRIPTION:[vc_row][vc_column][vc_column_text css=”.vc_custom_1771346955335{margin-bottom: 0px !important;}”]\nABA-Opleiding\nModule 4\nTrainers: Wilna Eenkhoorn\nWanneer: dinsdag 8 september 16.00 Start programma: 17.00 tot zondag 13 september ±17.00\nPrijs: €1950\,-\nAdres: Paradijs op Aarde\, Noordermeerweg 13\, 8312 RA Creil \nResidentieel: Ja\, Full Board maaltijden en verblijf; inclusief een meerpersoonskamer. Ik heb 3 caravans! \nHeb je een allergie? Laat het op tijd weten\, email naar info@ademenbewustzijnacademie.nl \nAnnuleringsvoorwaarden: lees het onderaan de pagina bij Algemene Voorwaarden.[/vc_column_text][mk_button dimension=”outline” size=”medium” url=”https://www.ademenbewustzijnacademie.nl/opleidingen/ademcoach-worden-module-3-4-5/” target=”_blank” margin_top=”30″ outline_skin=”custom” outline_active_color=”#a70100″ outline_active_text_color=”#a70100″ outline_hover_bg_color=”#a70100″ outline_hover_color=”#ffffff”]MEER INFORMATIE OVER DEZE MODULE[/mk_button][mk_button dimension=”outline” size=”medium” letter_spacing=”0″ url=”https://www.ademenbewustzijnacademie.nl/product/module-4-creil-8-13-september/” target=”_blank” button_custom_width=”0″ margin_top=”30″ margin_bottom=”15″ margin_right=”15″ outline_skin=”custom” outline_active_color=”#a70100″ outline_active_text_color=”#a70100″ outline_hover_bg_color=”#a70100″ outline_hover_color=”#ffffff”]BOEK MODULE 4[/mk_button][/vc_column][/vc_row]
URL:https://www.ademenbewustzijnacademie.nl/agenda/ademcoach-module-4-6-daagse-creil-4/
LOCATION:Creil
CATEGORIES:1. Opleiding – Ademcoach (Module 3, 4 en 5),Opleiding
ATTACH;FMTTYPE=image/jpeg:https://www.ademenbewustzijnacademie.nl/wp-content/uploads/2026/01/aba-platform-16.jpg
ORGANIZER;CN="Wilna Eenkhoorn":MAILTO:info@ademenbewustzijnacademie.nl
END:VEVENT
BEGIN:VEVENT
DTSTART;VALUE=DATE:20260917
DTEND;VALUE=DATE:20260921
DTSTAMP:20260422T021009
CREATED:20260407T130558Z
LAST-MODIFIED:20260407T130558Z
UID:10000473-1789603200-1789948799@www.ademenbewustzijnacademie.nl
SUMMARY:Ademcoach | Module 5 | Creil
DESCRIPTION:[vc_row][vc_column][vc_column_text margin_bottom=”0″ css=”.vc_custom_1775567122195{margin-bottom: 0px !important;}”]\nABA-Opleiding\nModule 5\nTrainers: Wilna Eenkhoorn\nWanneer: donderdag 17 september\, start programma: 20.00 uur tot en met zondag 20 september ±17.00\nPrijs: €975\,-\nAdres: Noordermeerweg 13\, 8312 RA Creil \nResidentieel: Ja\, verblijf op basis van fullboard op een meerpersoonskamer. \nHeb je een allergie? Laat het op tijd weten\, email naar info@ademenbewustzijnacademie.nl \nAnnuleringsvoorwaarden: lees het onderaan de pagina bij Algemene Voorwaarden.[/vc_column_text][mk_button dimension=”outline” size=”medium” url=”https://www.ademenbewustzijnacademie.nl/opleidingen/ademcoach-worden-module-3-4-5/” target=”_blank” margin_top=”30″ outline_skin=”custom” outline_active_color=”#a70100″ outline_active_text_color=”#a70100″ outline_hover_bg_color=”#a70100″ outline_hover_color=”#ffffff”]MEER INFORMATIE OVER DEZE MODULE[/mk_button][mk_button dimension=”outline” size=”medium” url=”https://www.ademenbewustzijnacademie.nl/product/module-5-creil-solo/” target=”_blank” margin_top=”30″ outline_skin=”custom” outline_active_color=”#a70100″ outline_active_text_color=”#a70100″ outline_hover_bg_color=”#a70100″ outline_hover_color=”#ffffff”]BOEK MODULE 5[/mk_button][/vc_column][/vc_row]
URL:https://www.ademenbewustzijnacademie.nl/agenda/ademcoach-module-5-creil/
CATEGORIES:1. Opleiding – Ademcoach (Module 3, 4 en 5),Opleiding
ATTACH;FMTTYPE=image/jpeg:https://www.ademenbewustzijnacademie.nl/wp-content/uploads/2026/01/aba-platform-4.jpg
ORGANIZER;CN="Wilna Eenkhoorn":MAILTO:info@ademenbewustzijnacademie.nl
END:VEVENT
BEGIN:VEVENT
DTSTART;TZID=UTC:20260923T201500
DTEND;TZID=UTC:20260923T221500
DTSTAMP:20260422T021009
CREATED:20260303T142548Z
LAST-MODIFIED:20260304T000359Z
UID:10000429-1790194500-1790201700@www.ademenbewustzijnacademie.nl
SUMMARY:Ademcirkel Ervaringsgewijs
DESCRIPTION:[vc_row][vc_column][vc_column_text margin_bottom=”0″ css=”.vc_custom_1772582599221{margin-bottom: 0px !important;}”]Bij deze ademcirkel neem ik\, Anne van Kessel\, je mee op reis door verschillenden lagen van jezelf.  \nNa een korte kennismaking met elkaar\, leg ik uit wat je ongeveer kunt verwachten en wat bewust verbonden ademen in houdt. Vervolgens zetten we een intentie die als anker voor jezelf kan dienen tijdens de ademsessie. \nKosten: 45\,- inclusief btw \nBoeken: Ademcirkel Ervaringsgewijs \n [/vc_column_text][/vc_column][/vc_row]
URL:https://www.ademenbewustzijnacademie.nl/agenda/ademcirkel-ervaringsgewijs/2026-09-23/
LOCATION:Arnhem\, Under the Tree\, Klaverlaan 1A\, Arnhem\, Gelderland\, 4861CG
CATEGORIES:Adem Events
ATTACH;FMTTYPE=image/jpeg:https://www.ademenbewustzijnacademie.nl/wp-content/uploads/2026/01/aba-platform-32.jpg
ORGANIZER;CN="Anne van Kessel":MAILTO:avkzelf.zorg@gmail.com
END:VEVENT
BEGIN:VEVENT
DTSTART;TZID=UTC:20260924T183000
DTEND;TZID=UTC:20260924T210000
DTSTAMP:20260422T021009
CREATED:20260402T120103Z
LAST-MODIFIED:20260402T120721Z
UID:10000471-1790274600-1790283600@www.ademenbewustzijnacademie.nl
SUMMARY:Ademcirkel Urban Retreat Amsterdam
DESCRIPTION:[vc_row][vc_column][vc_column_text margin_bottom=”0″ css=”.vc_custom_1775130321501{margin-bottom: 0px !important;}”]Ready to retreat?\nReady to relax?\nReady to breathe? \nStap aan het einde van de maand uit je vaste patronen\, schud de stress van je af en kom thuis bij je zelf!\nGeef jezelf ademruimte en ontspan in het diepste niveau van je zijn.\nGa naar de stilte in jezelf en ontdek je oneindige potentieel.\nHet maakt niet uit wie je bent of wat je doet.\nCreëer de mogelijkheid om een nieuwe bron van creativiteit en inzichten aan te raken.\nVerander je patroon\, ga van je geijkte pad\, durf\, doe en ga!\nAuthentiek zijn\, waarachtig in het meesteren van je eigen leven. \nIedere maand organiseren Wouter de Graaf en Lilian Korzilius een Urban Retreat Adem Event in Studio Lumen in Amsterdam-Centrum. \n€ 60\,00 euro incl. BTW \n€ 75\,00 euro incl. BTW en lichte maaltijd. \nCheck voor meer informatie en boeken van dit event op: Maandelijkse Urban Retreat Amsterdam[/vc_column_text][/vc_column][/vc_row]
URL:https://www.ademenbewustzijnacademie.nl/agenda/ademcirkel-urban-retreat-amsterdam/2026-09-24/
LOCATION:Amsterdam\, Nieuwe Keizersgracht 58\, Amsterdam\, Noord-Holland\, 1018 DT\, Netherlands
CATEGORIES:Adem Events
ATTACH;FMTTYPE=image/jpeg:https://www.ademenbewustzijnacademie.nl/wp-content/uploads/2026/01/aba-platform-35.jpeg
END:VEVENT
END:VCALENDAR